BEGIN:VCALENDAR
VERSION:2.0
PRODID:-//https://www.thebestfss.com///NONSGML kigkonsult.se iCalcreator 2.10.15//
METHOD:PUBLISH
BEGIN:VEVENT
UID:20260421T143527UTC-9939vV3vgS@https://www.thebestfss.com/
DTSTAMP:20260421T143527Z
DESCRIPTION:Tuesdays with a twist at the Cosmic Grill this May! 🍹🎳  https:/
 /www.thebestfss.com/event/6169-cinco-de-mayo-drink-specials
DTSTART:20260506T120000Z
DTEND:20260526T200000Z
LOCATION:The Cosmic Grill (416 Recreation St.\, Shaw AFB\, SC 29152\, USA)
SUMMARY:Cinco De Mayo Drink Specials
URL:https://www.thebestfss.com/event/6169-cinco-de-mayo-drink-specials
END:VEVENT
BEGIN:VEVENT
UID:20260421T143527UTC-9942mDoKWj@https://www.thebestfss.com/
DTSTAMP:20260421T143527Z
DESCRIPTION:Kick off Summer with Wateree Recreation Area's BIG Memorial Day
  Sale!  https://www.thebestfss.com/event/6173-memorial-day-weekend-big-sal
 e
DTSTART:20260523T120000Z
DTEND:20260526T200000Z
LOCATION:Wateree Recreation Area (2030 Baron Dekalb Rd\, Camden\, SC 29020\
 , USA)
SUMMARY:Memorial Day Weekend Big Sale
URL:https://www.thebestfss.com/event/6173-memorial-day-weekend-big-sale
END:VEVENT
END:VCALENDAR
