BEGIN:VCALENDAR
VERSION:2.0
PRODID:-//https://www.thebestfss.com///NONSGML kigkonsult.se iCalcreator 2.10.15//
METHOD:PUBLISH
BEGIN:VEVENT
UID:20260421T221337UTC-1360tC3nUi@https://www.thebestfss.com/
DTSTAMP:20260421T221337Z
DESCRIPTION:Squadron Golf Extramurals are the perfect way to bring your tea
 m together on the fairways ⛳️ https://www.thebestfss.com/event/6164-squadr
 on-golf-extramurals
DTSTART:20260303T190000Z
DTEND:20260505T220000Z
LOCATION:Carolina Lakes Golf Course (400 Stuart Street\, Shaw AFB\, SC 2915
 2\, USA)
SUMMARY:Squadron Golf Extramurals
URL:https://www.thebestfss.com/event/6164-squadron-golf-extramurals
END:VEVENT
END:VCALENDAR
