BEGIN:VCALENDAR
VERSION:2.0
PRODID:-//https://www.thebestfss.com///NONSGML kigkonsult.se iCalcreator 2.10.15//
METHOD:PUBLISH
BEGIN:VEVENT
UID:20260425T031045UTC-5939MPfDeM@https://www.thebestfss.com/
DTSTAMP:20260425T031045Z
DESCRIPTION:Peak summertime adventure is here! Register today with Outdoor 
 Recreation today to zipline across the Green River Gorge!  https://www.the
 bestfss.com/event/6191-the-gorge-zipline
DTSTART:20260516T110000Z
DTEND:20260517T000000Z
LOCATION:Outdoor Recreation Center (1 FamCamp Dr.\, Shaw AFB\, SC 29152\, U
 SA)
SUMMARY:The Gorge Zipline
URL:https://www.thebestfss.com/event/6191-the-gorge-zipline
END:VEVENT
END:VCALENDAR
