BEGIN:VCALENDAR
VERSION:2.0
PRODID:-//https://www.thebestfss.com///NONSGML kigkonsult.se iCalcreator 2.10.15//
METHOD:PUBLISH
BEGIN:VEVENT
UID:20260425T031329UTC-607083fcN9@https://www.thebestfss.com/
DTSTAMP:20260425T031329Z
DESCRIPTION:Come for dinner\, stay for the drama...Murder is on the menu at
  Carolina Skies' Midnight at the Masquerade Murder Mystery Dinner!  https:
 //www.thebestfss.com/event/6188-midnight-at-the-masquerade-murder-mystery-
 dinner
DTSTART:20260516T220000Z
DTEND:20260517T030000Z
LOCATION:Carolina Skies Club & Conference Center  (487 Myers St.\, Shaw AFB
 \, SC 29152\, USA)
SUMMARY:Midnight at the Masquerade - Murder Mystery Dinner
URL:https://www.thebestfss.com/event/6188-midnight-at-the-masquerade-murder
 -mystery-dinner
END:VEVENT
END:VCALENDAR
