BEGIN:VCALENDAR
VERSION:2.0
PRODID:-//https://www.thebestfss.com///NONSGML kigkonsult.se iCalcreator 2.10.15//
METHOD:PUBLISH
BEGIN:VEVENT
UID:20260425T031007UTC-4414J3C0au@https://www.thebestfss.com/
DTSTAMP:20260425T031007Z
DESCRIPTION:Everything Must GO! NAF Sale Wednesday\, May 13th! https://www.
 thebestfss.com/event/6187-naf-sale
DTSTART:20260513T140000Z
DTEND:20260513T180000Z
LOCATION:DIY Auto Repair Shop (311 Avocet St.\, Shaw AFB\, SC 29152\, USA)
SUMMARY:NAF Sale
URL:https://www.thebestfss.com/event/6187-naf-sale
END:VEVENT
END:VCALENDAR
