BEGIN:VCALENDAR
VERSION:2.0
PRODID:-//https://www.thebestfss.com///NONSGML kigkonsult.se iCalcreator 2.10.15//
METHOD:PUBLISH
BEGIN:VEVENT
UID:20260425T031508UTC-08618ND6vc@https://www.thebestfss.com/
DTSTAMP:20260425T031508Z
DESCRIPTION:Military Spouse Appreciation is happening at the Carolina Skies
  Club &amp\; Conference Center on May 15th! Come show your superpower at t
 his event meant to appreciate our everyday heroes\, Military Spouses! http
 s://www.thebestfss.com/event/6184-military-spouse-appreciation-event-not-a
 ll-heroes-wear-capes
DTSTART:20260515T130000Z
DTEND:20260515T170000Z
LOCATION:Carolina Skies Club & Conference Center  (487 Myers St.\, Shaw AFB
 \, SC 29152\, USA)
SUMMARY:Military Spouse Appreciation Event - Not All Heroes Wear Capes
URL:https://www.thebestfss.com/event/6184-military-spouse-appreciation-even
 t-not-all-heroes-wear-capes
END:VEVENT
END:VCALENDAR
