BEGIN:VCALENDAR
VERSION:2.0
PRODID:-//https://www.thebestfss.com///NONSGML kigkonsult.se iCalcreator 2.10.15//
METHOD:PUBLISH
BEGIN:VEVENT
UID:20260423T161344UTC-7677ftTUD5@https://www.thebestfss.com/
DTSTAMP:20260423T161344Z
DESCRIPTION:Come into Arts &amp\; Crafts in the month of May to get hands o
 n! Paint your own pot and then fill it with beautiful flowers...planted by
  you! https://www.thebestfss.com/event/6183-arts-crafts-may-table-craft-po
 t-paint-plant
DTSTART:20260501T120000Z
DTEND:20260529T200000Z
LOCATION:Arts & Crafts Center (520 Marco Ave\, Shaw AFB\, SC 29152\, USA)
SUMMARY:Arts & Crafts May Table Craft - Pot Paint & Plant
URL:https://www.thebestfss.com/event/6183-arts-crafts-may-table-craft-pot-p
 aint-plant
END:VEVENT
END:VCALENDAR
