BEGIN:VCALENDAR
VERSION:2.0
PRODID:-//https://www.thebestfss.com///NONSGML kigkonsult.se iCalcreator 2.10.15//
METHOD:PUBLISH
BEGIN:VEVENT
UID:20260423T221200UTC-7558k9Lkwo@https://www.thebestfss.com/
DTSTAMP:20260423T221200Z
DESCRIPTION:Come to Arts &amp\; Crafts for their May Special - FREE Laserin
 g on anything purchased from the clearance shelf! https://www.thebestfss.c
 om/event/6182-arts-crafts-may-special
DTSTART:20260504T120000Z
DTEND:20260508T200000Z
LOCATION:Arts & Crafts Center (520 Marco Ave\, Shaw AFB\, SC 29152\, USA)
SUMMARY:Arts & Crafts May Special
URL:https://www.thebestfss.com/event/6182-arts-crafts-may-special
END:VEVENT
END:VCALENDAR
