BEGIN:VCALENDAR
VERSION:2.0
PRODID:-//https://www.thebestfss.com///NONSGML kigkonsult.se iCalcreator 2.10.15//
METHOD:PUBLISH
BEGIN:VEVENT
UID:20260425T031125UTC-8056gotMg3@https://www.thebestfss.com/
DTSTAMP:20260425T031125Z
DESCRIPTION:Moms and daughters join Shaw Lanes on Mother's Day for their Mo
 mmy and Me Scotch Doubles!  https://www.thebestfss.com/event/6181-mommy-me
 -scotch-doubles
DTSTART:20260516T220000Z
DTEND:20260517T010000Z
LOCATION:Shaw Lanes Bowling Center (416 Recreation St.\, Shaw AFB\, SC 2915
 2\, USA)
SUMMARY:Mommy & Me Scotch Doubles
URL:https://www.thebestfss.com/event/6181-mommy-me-scotch-doubles
END:VEVENT
END:VCALENDAR
