BEGIN:VCALENDAR
VERSION:2.0
PRODID:-//https://www.thebestfss.com///NONSGML kigkonsult.se iCalcreator 2.10.15//
METHOD:PUBLISH
BEGIN:VEVENT
UID:20260423T150310UTC-8493pBLFhN@https://www.thebestfss.com/
DTSTAMP:20260423T150310Z
DESCRIPTION:Celebrate Mom at the Molly's Mother's Day Brunch and toast her 
 with MOM-osas!  https://www.thebestfss.com/event/6180-mother-s-day-brunch
DTSTART:20260510T150000Z
DTEND:20260510T173000Z
LOCATION:Carolina Skies Club & Conference Center  (487 Myers St.\, Shaw AFB
 \, SC 29152\, USA)
SUMMARY:Mother's Day Brunch
URL:https://www.thebestfss.com/event/6180-mother-s-day-brunch
END:VEVENT
END:VCALENDAR
