BEGIN:VCALENDAR
VERSION:2.0
PRODID:-//https://www.thebestfss.com///NONSGML kigkonsult.se iCalcreator 2.10.15//
METHOD:PUBLISH
BEGIN:VEVENT
UID:20260423T125356UTC-0882DB3kjL@https://www.thebestfss.com/
DTSTAMP:20260423T125356Z
DESCRIPTION:Grab a pallet and create a masterpiece of bottle cap art with A
 rts &amp\; Crafts at this event. Be sure to register by April 29th! https:
 //www.thebestfss.com/event/6179-bottle-cap-art
DTSTART:20260505T210000Z
DTEND:20260505T230000Z
LOCATION:Shaw Lanes Bowling Center (416 Recreation St.\, Shaw AFB\, SC 2915
 2\, USA)
SUMMARY:Bottle Cap Art
URL:https://www.thebestfss.com/event/6179-bottle-cap-art
END:VEVENT
END:VCALENDAR
