BEGIN:VCALENDAR
VERSION:2.0
PRODID:-//https://www.thebestfss.com///NONSGML kigkonsult.se iCalcreator 2.10.15//
METHOD:PUBLISH
BEGIN:VEVENT
UID:20260422T090525UTC-3191I9Oavn@https://www.thebestfss.com/
DTSTAMP:20260422T090525Z
DESCRIPTION:Come celebrate Mom with a peaceful day by the lake at Wateree R
 ecreation Area!  https://www.thebestfss.com/event/6174-mother-s-day-by-the
 -lake
DTSTART:20260509T140000Z
DTEND:20260509T180000Z
LOCATION:Wateree Recreation Area (2030 Baron Dekalb Rd\, Camden\, SC 29020\
 , USA)
SUMMARY:Mother's Day By The Lake
URL:https://www.thebestfss.com/event/6174-mother-s-day-by-the-lake
END:VEVENT
END:VCALENDAR
