BEGIN:VCALENDAR
VERSION:2.0
PRODID:-//https://www.thebestfss.com///NONSGML kigkonsult.se iCalcreator 2.10.15//
METHOD:PUBLISH
BEGIN:VEVENT
UID:20260420T083336UTC-2095Djjuzp@https://www.thebestfss.com/
DTSTAMP:20260420T083336Z
DESCRIPTION:In this exciting twist on traditional bowling\, knocking down 9
  pins counts as a strike—so it’s perfect for bowlers of all skill levels! 
 Come out for a chance to win prizes\, meet fellow bowlers\, and enjoy a gr
 eat night on the lanes#BestFSSintheUSAF #20thfssisFiredUp #NotWithoutUs #S
 HAWAFBEvents https://www.thebestfss.com/event/6171-9-pin-no-tap-tournament
DTSTART:20260509T210000Z
DTEND:20260510T010000Z
LOCATION:Shaw Lanes Bowling Center (416 Recreation St.\, Shaw AFB\, SC 2915
 2\, USA)
SUMMARY:9 Pin No Tap Tournament
URL:https://www.thebestfss.com/event/6171-9-pin-no-tap-tournament
END:VEVENT
END:VCALENDAR
