BEGIN:VCALENDAR
VERSION:2.0
PRODID:-//https://www.thebestfss.com///NONSGML kigkonsult.se iCalcreator 2.10.15//
METHOD:PUBLISH
BEGIN:VEVENT
UID:20260422T103308UTC-1331UbLhG1@https://www.thebestfss.com/
DTSTAMP:20260422T103308Z
DESCRIPTION:You won't regret spending a perfect spring night on a date with
  Carolina Lakes' Couples 9 &amp\; Dine! https://www.thebestfss.com/event/6
 168-couples-9-dine
DTSTART:20260418T200000Z
DTEND:20260418T230000Z
LOCATION:Carolina Lakes Golf Course (400 Stuart Street\, Shaw AFB\, SC 2915
 2\, USA)
SUMMARY:Couples 9 & Dine
URL:https://www.thebestfss.com/event/6168-couples-9-dine
END:VEVENT
END:VCALENDAR
