BEGIN:VCALENDAR
VERSION:2.0
PRODID:-//https://www.thebestfss.com///NONSGML kigkonsult.se iCalcreator 2.10.15//
METHOD:PUBLISH
BEGIN:VEVENT
UID:20260421T083531UTC-25264E80Vo@https://www.thebestfss.com/
DTSTAMP:20260421T083531Z
DESCRIPTION:Outdoor Recreation bringing you a sky high adventure this March
 ! Be sure to sign up by 27 February to participate! https://www.thebestfss
 .com/event/6045-skydiving
DTSTART:20260314T110000Z
DTEND:20260315T000000Z
LOCATION:Outdoor Recreation Center (1 FamCamp Dr.\, Shaw AFB\, SC 29152\, U
 SA)
SUMMARY:Skydiving
URL:https://www.thebestfss.com/event/6045-skydiving
END:VEVENT
END:VCALENDAR
