BEGIN:VCALENDAR
VERSION:2.0
PRODID:-//https://www.thebestfss.com///NONSGML kigkonsult.se iCalcreator 2.10.15//
METHOD:PUBLISH
BEGIN:VEVENT
UID:20260421T090202UTC-3713LegTjv@https://www.thebestfss.com/
DTSTAMP:20260421T090202Z
DESCRIPTION:Explore the cobblestone streets of Charleston with Information\
 , Tickets\, &amp\; Travel's Charleston City Tour!  https://www.thebestfss.
 com/event/6044-charleston-city-tour
DTSTART:20260321T110000Z
DTEND:20260321T230000Z
LOCATION:Information\, Tickets & Travel (370 Rhodes Ave.\, Shaw AFB\, SC 29
 152\, USA)
SUMMARY:Charleston City Tour
URL:https://www.thebestfss.com/event/6044-charleston-city-tour
END:VEVENT
END:VCALENDAR
