BEGIN:VCALENDAR
VERSION:2.0
PRODID:-//https://www.thebestfss.com///NONSGML kigkonsult.se iCalcreator 2.10.15//
METHOD:PUBLISH
BEGIN:VEVENT
UID:20260426T015824UTC-57253J10xt@https://www.thebestfss.com/
DTSTAMP:20260426T015824Z
DESCRIPTION:Couples 9 &amp\; Dine on March 15 at Carolina Lakes Golf Course
 \nJoin us for a fun-filled evening at Carolina Lakes Golf Course! Enjoy 9 
 holes of golf followed by a delicious dinner. A perfect date night for cou
 ples looking to unwind and enjoy great company.\nDate: March 15 | Time: 3:
 00 PM - 8:00 PMPrice: $70 per Couple\nReserve your spot today by calling a
 t 803.895.1399! https://www.thebestfss.com/event/5813-couples-9-dine
DTSTART:20250315T190000Z
DTEND:20250316T000000Z
LOCATION:Carolina Lakes Golf Course (400 Stuart Street\, Shaw AFB\, SC 2915
 2\, USA)
SUMMARY:Couples 9 & Dine
URL:https://www.thebestfss.com/event/5813-couples-9-dine
END:VEVENT
END:VCALENDAR
