BEGIN:VCALENDAR
VERSION:2.0
PRODID:-//https://www.thebestfss.com///NONSGML kigkonsult.se iCalcreator 2.10.15//
METHOD:PUBLISH
BEGIN:VEVENT
UID:20260419T130050UTC-3312XtUR6c@https://www.thebestfss.com/
DTSTAMP:20260419T130050Z
DESCRIPTION:Adventurers\, it’s time to roll the dice and unleash your imagi
 nation!\nThe Dungeons &amp\; Dragons campaign at the McElveen Library is o
 n November 15th and December 6th from 5-7 PM for epic quests and legendary
  stories! Bring your dice\, snacks\, and your wildest ideas as we explore 
 dungeons\, battle fierce foes\, and forge lifelong alliances!\nCall the Mc
 Elveen Library at 803.895.4518 for more information. https://www.thebestfs
 s.com/event/5769-dungeons-dragons
DTSTART:20241115T220000Z
DTEND:20241207T000000Z
LOCATION:McElveen Library (400 Shaw Dr\, Shaw AFB\, SC 29152\, USA)
SUMMARY:Dungeons & Dragons
URL:https://www.thebestfss.com/event/5769-dungeons-dragons
END:VEVENT
END:VCALENDAR
