BEGIN:VCALENDAR
VERSION:2.0
PRODID:-//https://www.thebestfss.com///NONSGML kigkonsult.se iCalcreator 2.10.15//
METHOD:PUBLISH
BEGIN:VEVENT
UID:20260420T101241UTC-0268Ha1jgd@https://www.thebestfss.com/
DTSTAMP:20260420T101241Z
DESCRIPTION:Join the Shaw Lanes Bowling Center for a fantastic spooky-showi
 ng during the month of October!Saturdays in October\, 5:30 PM - 7:30 PM.\n
 Showings:- Hocus Pocus 2 (PG) - Oct 5- Corpse Bride (PG) - Oct 12- Beetlej
 uice (PG) - Oct 19- Haunted Mansion'23 (PG-13) - Oct 26Price: ranging betw
 een $12 - $15\, depending of the menu https://www.thebestfss.com/event/575
 4-bowling-a-movie
DTSTART:20241005T093000Z
DTEND:20241026T233000Z
LOCATION:Shaw Lanes Bowling Center (416 Recreation St.\, Shaw AFB\, SC 2915
 2\, USA)
SUMMARY:Bowling & A Movie
URL:https://www.thebestfss.com/event/5754-bowling-a-movie
END:VEVENT
END:VCALENDAR
