BEGIN:VCALENDAR
VERSION:2.0
PRODID:-//https://www.thebestfss.com///NONSGML kigkonsult.se iCalcreator 2.10.15//
METHOD:PUBLISH
BEGIN:VEVENT
UID:20260419T084308UTC-0005LfFJ81@https://www.thebestfss.com/
DTSTAMP:20260419T084307Z
DESCRIPTION:Come learn basic techniques and practices to build your perfect
  charcuterie spread!\nAll supplies are included - drinks for purchase.\nSi
 gn Up by October 25th.\nPrice: $35.00 per person https://www.thebestfss.co
 m/event/5745-charcuterie-with-courtney
DTSTART:20241107T230000Z
DTEND:20241108T010000Z
LOCATION:Carolina Skies Club & Conference Center  (487 Myers St.\, Shaw AFB
 \, SC 29152\, USA)
SUMMARY:Charcuterie with Courtney
URL:https://www.thebestfss.com/event/5745-charcuterie-with-courtney
END:VEVENT
END:VCALENDAR
