BEGIN:VCALENDAR
VERSION:2.0
PRODID:-//https://www.thebestfss.com///NONSGML kigkonsult.se iCalcreator 2.10.15//
METHOD:PUBLISH
BEGIN:VEVENT
UID:20260422T204835UTC-1495dkEKLW@https://www.thebestfss.com/
DTSTAMP:20260422T204835Z
DESCRIPTION:Private golf lessons to all ages and every skill level.  All le
 ssons are 1 hour.Group rates are available.\nPrices:Adult - $40Youth and E
 1-E4 - $25\nCall Carolina Lakes Golf Course at 803.895.1399 to schedule yo
 ur lesson. https://www.thebestfss.com/event/5717-private-golf-lessons
DTSTART:20240821T141300Z
DTEND:20241122T230000Z
LOCATION:Carolina Lakes Golf Course (400 Stuart Street\, Shaw AFB\, SC 2915
 2\, USA)
SUMMARY:Private Golf Lessons
URL:https://www.thebestfss.com/event/5717-private-golf-lessons
END:VEVENT
END:VCALENDAR
