BEGIN:VCALENDAR
VERSION:2.0
PRODID:-//https://www.thebestfss.com///NONSGML kigkonsult.se iCalcreator 2.10.15//
METHOD:PUBLISH
BEGIN:VEVENT
UID:20260419T211657UTC-6459x2dUd4@https://www.thebestfss.com/
DTSTAMP:20260419T211657Z
DESCRIPTION:STARTING SEPTEMBER 4th!\nLiteracy skills can be built from birt
 h. Join us every Wednesday from 9:30AM to 10AM for some mom &amp\; baby ti
 me to learn songs and rhymes to help build a literacy foundation that will
  last a lifetime.\nRecommended for ages 0 - 24 months. https://www.thebest
 fss.com/event/5710-baby-rhyme-time
DTSTART:20240904T133000Z
DTEND:20250528T140000Z
LOCATION:McElveen Library (400 Shaw Dr\, Shaw AFB\, SC 29152\, USA)
SUMMARY:Baby Rhyme Time
URL:https://www.thebestfss.com/event/5710-baby-rhyme-time
END:VEVENT
END:VCALENDAR
