BEGIN:VCALENDAR
VERSION:2.0
PRODID:-//https://www.thebestfss.com///NONSGML kigkonsult.se iCalcreator 2.10.15//
METHOD:PUBLISH
BEGIN:VEVENT
UID:20260423T002026UTC-8185KundUW@https://www.thebestfss.com/
DTSTAMP:20260423T002026Z
DESCRIPTION:Did you get a new tablet? Are you trying to figure how to acces
 s e-books and audiobooks? Do you need a refresher on how to use Zoom or ge
 t your email set up?Starting September 2nd\, on Mondays from 11AM to 1 PM\
 , you can set up a 30 minutes appointment with our IT specialist and get y
 our tech and device questions answered! https://www.thebestfss.com/event/5
 703-tech-time
DTSTART:20240902T150000Z
DTEND:20250526T170000Z
LOCATION:McElveen Library (400 Shaw Dr\, Shaw AFB\, SC 29152\, USA)
SUMMARY:Tech Time
URL:https://www.thebestfss.com/event/5703-tech-time
END:VEVENT
END:VCALENDAR
