BEGIN:VCALENDAR
VERSION:2.0
PRODID:-//https://www.thebestfss.com///NONSGML kigkonsult.se iCalcreator 2.10.15//
METHOD:PUBLISH
BEGIN:VEVENT
UID:20260420T174147UTC-0088L6TBAg@https://www.thebestfss.com/
DTSTAMP:20260420T174147Z
DESCRIPTION:Seniors' Days Bowling is on—drop by\, play a few frames\, and e
 njoy a low-key\, active outing 🎳 https://www.thebestfss.com/event/5979-sen
 iors-days
DTSTART:20260901T143000Z
DTEND:20260901T180000Z
LOCATION:Shaw Lanes Bowling Center (416 Recreation St.\, Shaw AFB\, SC 2915
 2\, USA)
SUMMARY:Seniors Days
URL:https://www.thebestfss.com/event/5979-seniors-days
END:VEVENT
END:VCALENDAR
